BEGIN:VCALENDAR
VERSION:2.0
CALSCALE:GREGORIAN
METHOD:PUBLISH
X-WR-TIMEZONE:Australia/Sydney
BEGIN:VTIMEZONE
TZID:Australia/Sydney
BEGIN:STANDARD
TZNAME:AEST
DTSTART:19700101T000000
TZOFFSETFROM:+1100
TZOFFSETTO:+1000
END:STANDARD
END:VTIMEZONE
BEGIN:VEVENT
DTSTART;TZID=Australia/Sydney:20260616
DTEND;TZID=Australia/Sydney:20260616
DTSTAMP:20260420T200112
UID:9013
SUMMARY:General Achievement Test (GAT)
DESCRIPTION:




The GAT is a paper test of general knowledge and skills taken by students while completing their senior secondary studies.&amp;nbsp;No additional study is required to prepare for the GAT.&amp;nbsp;Access past papers here:&amp;nbsp;past-gats


SEQUENCE:0
STATUS:CONFIRMED
TRANSP:OPAQUE
END:VEVENT
END:VCALENDAR