BEGIN:VCALENDAR
VERSION:2.0
CALSCALE:GREGORIAN
METHOD:PUBLISH
X-WR-TIMEZONE:Australia/Sydney
BEGIN:VTIMEZONE
TZID:Australia/Sydney
BEGIN:STANDARD
TZNAME:AEST
DTSTART:19700101T000000
TZOFFSETFROM:+1100
TZOFFSETTO:+1000
END:STANDARD
END:VTIMEZONE
BEGIN:VEVENT
DTSTART;TZID=Australia/Sydney:20260616T080000
DTEND;TZID=Australia/Sydney:20260616T111500
DTSTAMP:20260420T215037
UID:9018
SUMMARY:2026 GAT Section A 
DESCRIPTION:




The General Achievement Test (GAT) is a pen-and-paper test of general knowledge and skills taken by students in the course of completing their senior secondary studies.
&amp;nbsp;
No special study is needed. Past study of subjects like English, Mathematics, Science and History prepares students for the GAT by building their general knowledge and skills in writing, numeracy and reasoning.Section B details coming soon


SEQUENCE:0
STATUS:CONFIRMED
TRANSP:OPAQUE
END:VEVENT
END:VCALENDAR